BEGIN:VCALENDAR
VERSION:2.0
PRODID:-//Eventin//Event Calendar//EN
CALSCALE:GREGORIAN
METHOD:PUBLISH
BEGIN:VEVENT
UID:ee4e0f9526c604524ac715f331bdcf71@collinsvillefbc.org
SUMMARY:CentriKid Camp
DESCRIPTION:For 2nd - 5th Graders\nJuly 5 - 9\, 2026\nWhy CentriKid?1. BIBL
 ICALWe firmly believe that God’s Word transforms hearts. CentriKid’s pr
 ogramming keeps kids engaged throughout the entire day based on what we kno
 w about their ability to learn and comprehend truths about God at a certain
  age.\n2. RELATIONALCamp gives your leaders and kids a place to interact an
 d bond for more than just an hour or two—meals\, free time\, and worship 
 are all opportunities for spiritual conversations! Kids leave camp having f
 ormed lifelong friendships with other believers their age.\n3. PHENOMENALLY
  FUN!From Morning Worship to Bible Study\, Recreation to Track Times\, ever
 ything at CentriKid is designed with the heart of a child in mind. There ar
 e lots of fun summer options for kids\, but CentriKid ensures that God’s 
 Word is the focus of every part of our camp\, including the fun stuff. \nW
 EBSITE
LOCATION:Timber Creek Camp
DTSTAMP:20260425T161033Z
DTSTART:20260705T170000Z
DTEND:20260709T170000Z
END:VEVENT
END:VCALENDAR
