BEGIN:VCALENDAR
VERSION:2.0
PRODID:-//Eventin//Event Calendar//EN
CALSCALE:GREGORIAN
METHOD:PUBLISH
BEGIN:VEVENT
UID:f65e4d7e02f1360b1a38114c53bb318b@collinsvillefbc.org
SUMMARY:Builders for Christ
DESCRIPTION:Builders for Christ is an organized group of churches that come
  together every summer to do mission work constructing church facilities fo
 r existing Christian congregations that are actively telling their communit
 ies about the saving grace of Jesus Christ\, our Savior and Lord.\nThis yea
 r's project will be in Brookhaven\, MS\, at the Baptist Children's Village.
 \nMay 28 - June 5\nFor more information\, please see Mr. Joe Green.  You c
 an sign up at the Information Desk!
LOCATION:Brookhaven\, MS
DTSTAMP:20260425T160949Z
DTSTART:20260528T130000Z
DTEND:20260605T220000Z
END:VEVENT
END:VCALENDAR
