BEGIN:VCALENDAR
VERSION:2.0
PRODID:-//Eventin//Event Calendar//EN
CALSCALE:GREGORIAN
METHOD:PUBLISH
BEGIN:VEVENT
UID:bb4dff7dffb3ebe7eb32fe9a5616f57c@collinsvillefbc.org
SUMMARY:Grad Sunday
DESCRIPTION:PLEASE PRAY\, ENCOURAGE\, AND CONGRATULATE THESE HIGH SCHOOL GR
 ADUATES.\nBaskets for cards and gifts will be available on Graduate Sunday\
 , May 3\, 2026\n\n\n\n\nMadilyn Allen\n\n\nDalyn Marshall\n\n\n\n\nJackson 
 Autry\n\n\nLandry Maxwell\n\n\n\n\nSawyer Ballard\n\n\nCharlee Odom\n\n\n\n
 \nBrooke Baltzell\n\n\nRoss Roberts\n\n\n\n\nElizabeth Crudup\n\n\nJena Shi
 rley\n\n\n\n\nMarley Epting\n\n\nEli Simpson\n\n\n\n\nChloe Evans\n\n\nEdi 
 Smith\n\n\n\n\nRiley Floyd\n\n\nAaron Walls\n\n\n\n\nPayton Harrell\n\n\nAl
 lison Walton\n\n\n\n\nKatelyn Hodgins\n\n\nHunter Walton\n\n\n\n\nHayden Hu
 ckaby\n\n\nBraydn Warren\n\n\n\n\nMisty Johnson\n\n\nGabe Wheat\n\n\n\n\nGa
 vin Joyner\n\n\nJonah Winford\n\n\n\n\n 
LOCATION:Worship Center
DTSTAMP:20260421T125232Z
DTSTART:20260503T151500Z
DTEND:20260503T163000Z
END:VEVENT
END:VCALENDAR
