BEGIN:VCALENDAR
VERSION:2.0
PRODID:-//Eventin//Event Calendar//EN
CALSCALE:GREGORIAN
METHOD:PUBLISH
BEGIN:VEVENT
UID:52cf7a5187e8169e46c49edf1024a142@collinsvillefbc.org
SUMMARY:Mother's Day Breakfast
DESCRIPTION:Mother's Day Breakfast\nSunday\, May 10th at 8:30 AM\nSpecial G
 uest Speaker\, Karen Wilson\nSign up HERE or at the Information Desk in the
  Gathering Area
LOCATION:Worship Center
DTSTAMP:20260419T133820Z
DTSTART:20260510T133000Z
DTEND:20260510T150000Z
END:VEVENT
END:VCALENDAR
