BEGIN:VCALENDAR
VERSION:2.0
PRODID:-//Eventin//Event Calendar//EN
CALSCALE:GREGORIAN
METHOD:PUBLISH
BEGIN:VEVENT
UID:1e10f3b5e561a2b5742fbf84801f4d29@collinsvillefbc.org
SUMMARY:Keenagers Celebrators Conference 2026
DESCRIPTION:October 12-15\, 2026 in Pigeon Forge\, TN\nClick HERE to see th
 e Flyer!\nYou may also visit the conference website HERE\n 
LOCATION:Pigeon Forge\, TN
DTSTAMP:20260419T120918Z
DTSTART:20261012T100000Z
DTEND:20261016T020000Z
END:VEVENT
END:VCALENDAR
